BEGIN:VCALENDAR
VERSION:2.0
PRODID:-//eventon.com NONSGML v1.0//EN
BEGIN:VEVENT
UID:69e5377899c61
DTSTAMP:20260419T221344
DTSTART:20230208T220000Z
DTEND:20230209T215900Z
LOCATION:
SUMMARY:Skin comorbidities: HS and acne\,  HS and psoriasis\,  HS and atopic dermatitis
DESCRIPTION: Skin comorbidities: HS and acne\,  HS and psoriasis\,  HS and atopic dermatitis
END:VEVENT
END:VCALENDAR