BEGIN:VCALENDAR
VERSION:2.0
PRODID:-//eventon.com NONSGML v1.0//EN
BEGIN:VEVENT
UID:69e8bf28a02bf
DTSTAMP:20260422T142928
DTSTART:20210211T113000Z
DTEND:20210211T130000Z
LOCATION:
SUMMARY:Poster Session
DESCRIPTION: Poster Session
END:VEVENT
END:VCALENDAR