BEGIN:VCALENDAR
VERSION:2.0
PRODID:-//eventon.com NONSGML v1.0//EN
BEGIN:VEVENT
UID:69e57f9b39b48
DTSTAMP:20260420T032131
DTSTART:20210211T083000Z
DTEND:20210211T113000Z
LOCATION:
SUMMARY:Scientific Session 1
DESCRIPTION: Scientific Session 1
END:VEVENT
END:VCALENDAR